BEGIN:VCALENDAR
VERSION:2.0
PRODID:-//千葉土建一般労働組合 - ECPv5.16.4//NONSGML v1.0//EN
CALSCALE:GREGORIAN
METHOD:PUBLISH
X-WR-CALNAME:千葉土建一般労働組合
X-ORIGINAL-URL:http://www.chiba-doken.or.jp
X-WR-CALDESC:千葉土建一般労働組合 のイベント
BEGIN:VTIMEZONE
TZID:Asia/Tokyo
BEGIN:STANDARD
TZOFFSETFROM:+0900
TZOFFSETTO:+0900
TZNAME:JST
DTSTART:20210101T000000
END:STANDARD
END:VTIMEZONE
BEGIN:VEVENT
DTSTART;VALUE=DATE:20210207
DTEND;VALUE=DATE:20210208
DTSTAMP:20260426T034948
CREATED:20200501T001014Z
LAST-MODIFIED:20201228T063541Z
UID:10677-1612656000-1612742399@www.chiba-doken.or.jp
SUMMARY:フルハーネス型安全帯使用作業特別教育
DESCRIPTION:
URL:http://www.chiba-doken.or.jp/calendar/10677/
LOCATION:千葉土建八街支部会館
CATEGORIES:フルハーネス型安全帯使用作業特別教育
END:VEVENT
END:VCALENDAR