BEGIN:VCALENDAR
VERSION:2.0
PRODID:-//千葉土建一般労働組合 - ECPv5.16.4//NONSGML v1.0//EN
CALSCALE:GREGORIAN
METHOD:PUBLISH
X-WR-CALNAME:千葉土建一般労働組合
X-ORIGINAL-URL:http://www.chiba-doken.or.jp
X-WR-CALDESC:千葉土建一般労働組合 のイベント
BEGIN:VTIMEZONE
TZID:Asia/Tokyo
BEGIN:STANDARD
TZOFFSETFROM:+0900
TZOFFSETTO:+0900
TZNAME:JST
DTSTART:20200101T000000
END:STANDARD
END:VTIMEZONE
BEGIN:VEVENT
DTSTART;VALUE=DATE:20200510
DTEND;VALUE=DATE:20200511
DTSTAMP:20260423T153606
CREATED:20200326T063356Z
LAST-MODIFIED:20200508T072529Z
UID:10357-1589068800-1589155199@www.chiba-doken.or.jp
SUMMARY:【中止】グラインダ特別教育（自由研削砥石等の業務）
DESCRIPTION:グラインダ（自由研削砥石）の運転、砥石取替に必要な教育。
URL:http://www.chiba-doken.or.jp/calendar/10357/
LOCATION:千葉土建松戸支部会館
CATEGORIES:グラインダ（自由研削砥石等の業務）特別教育
END:VEVENT
BEGIN:VEVENT
DTSTART;VALUE=DATE:20200510
DTEND;VALUE=DATE:20200511
DTSTAMP:20260423T153606
CREATED:20200327T080411Z
LAST-MODIFIED:20200508T072558Z
UID:10371-1589068800-1589155199@www.chiba-doken.or.jp
SUMMARY:【中止】フルハーネス型安全帯使用作業特別教育
DESCRIPTION:
URL:http://www.chiba-doken.or.jp/calendar/10371/
LOCATION:千葉土建かずさ支部会館
CATEGORIES:フルハーネス型安全帯使用作業特別教育
END:VEVENT
END:VCALENDAR