BEGIN:VCALENDAR
VERSION:2.0
PRODID:-//千葉土建一般労働組合 - ECPv5.16.4//NONSGML v1.0//EN
CALSCALE:GREGORIAN
METHOD:PUBLISH
X-WR-CALNAME:千葉土建一般労働組合
X-ORIGINAL-URL:http://www.chiba-doken.or.jp
X-WR-CALDESC:千葉土建一般労働組合 のイベント
BEGIN:VTIMEZONE
TZID:Asia/Tokyo
BEGIN:STANDARD
TZOFFSETFROM:+0900
TZOFFSETTO:+0900
TZNAME:JST
DTSTART:20190101T000000
END:STANDARD
END:VTIMEZONE
BEGIN:VEVENT
DTSTART;VALUE=DATE:20190526
DTEND;VALUE=DATE:20190527
DTSTAMP:20260424T003647
CREATED:20190305T062925Z
LAST-MODIFIED:20190305T062925Z
UID:5958-1558828800-1558915199@www.chiba-doken.or.jp
SUMMARY:さしがね講習【棒隅木】（２日目）
DESCRIPTION:
URL:http://www.chiba-doken.or.jp/calendar/5958/
LOCATION:千葉土建本部会館
CATEGORIES:さしがね講習【棒隅木】
END:VEVENT
BEGIN:VEVENT
DTSTART;VALUE=DATE:20190526
DTEND;VALUE=DATE:20190527
DTSTAMP:20260424T003647
CREATED:20190305T063210Z
LAST-MODIFIED:20190305T063210Z
UID:5966-1558828800-1558915199@www.chiba-doken.or.jp
SUMMARY:さしがね講習【四方転び踏み台】（全国青年技能競技大会課題）（２日目）
DESCRIPTION:
URL:http://www.chiba-doken.or.jp/calendar/5966/
LOCATION:千葉土建本部会館
CATEGORIES:さしがね講習【四方転び踏み台】（全国青年技能競技大会課題）
END:VEVENT
END:VCALENDAR