BEGIN:VCALENDAR
VERSION:2.0
PRODID:-//千葉土建一般労働組合 - ECPv5.16.4//NONSGML v1.0//EN
CALSCALE:GREGORIAN
METHOD:PUBLISH
X-WR-CALNAME:千葉土建一般労働組合
X-ORIGINAL-URL:http://www.chiba-doken.or.jp
X-WR-CALDESC:千葉土建一般労働組合 のイベント
BEGIN:VTIMEZONE
TZID:Asia/Tokyo
BEGIN:STANDARD
TZOFFSETFROM:+0900
TZOFFSETTO:+0900
TZNAME:JST
DTSTART:20190101T000000
END:STANDARD
END:VTIMEZONE
BEGIN:VEVENT
DTSTART;VALUE=DATE:20190514
DTEND;VALUE=DATE:20190515
DTSTAMP:20260423T022229
CREATED:20190305T064318Z
LAST-MODIFIED:20190305T064318Z
UID:5982-1557792000-1557878399@www.chiba-doken.or.jp
SUMMARY:足場の組立て等作業主任者技能講習（２日目）
DESCRIPTION:
URL:http://www.chiba-doken.or.jp/calendar/5982/
LOCATION:千葉土建本部会館
CATEGORIES:足場の組立て等作業主任者技能講習
END:VEVENT
END:VCALENDAR