BEGIN:VCALENDAR
VERSION:2.0
PRODID:-//千葉土建一般労働組合 - ECPv5.16.4//NONSGML v1.0//EN
CALSCALE:GREGORIAN
METHOD:PUBLISH
X-WR-CALNAME:千葉土建一般労働組合
X-ORIGINAL-URL:http://www.chiba-doken.or.jp
X-WR-CALDESC:千葉土建一般労働組合 のイベント
BEGIN:VTIMEZONE
TZID:Asia/Tokyo
BEGIN:STANDARD
TZOFFSETFROM:+0900
TZOFFSETTO:+0900
TZNAME:JST
DTSTART:20190101T000000
END:STANDARD
END:VTIMEZONE
BEGIN:VEVENT
DTSTART;VALUE=DATE:20190509
DTEND;VALUE=DATE:20190510
DTSTAMP:20260422T170615
CREATED:20190305T063655Z
LAST-MODIFIED:20190305T064037Z
UID:5972-1557360000-1557446399@www.chiba-doken.or.jp
SUMMARY:第二種電気工事士【筆記】受験準備講座（１日目）
DESCRIPTION:電気工事士として一般住宅や店舗などの600ボルト以下で受電する設備の工事を行うための資格試験準備講座。
URL:http://www.chiba-doken.or.jp/calendar/5972/
LOCATION:千葉土建本部会館
CATEGORIES:第二種電気工事士【筆記】受験準備講座
END:VEVENT
END:VCALENDAR